BEGIN:VCALENDAR
VERSION:2.0
PRODID:-//The Hampshire Federation of Horticultural Societies - ECPv6.15.18//NONSGML v1.0//EN
CALSCALE:GREGORIAN
METHOD:PUBLISH
X-WR-CALNAME:The Hampshire Federation of Horticultural Societies
X-ORIGINAL-URL:https://www.hampshirefedhortisoc.org.uk
X-WR-CALDESC:Events for The Hampshire Federation of Horticultural Societies
REFRESH-INTERVAL;VALUE=DURATION:PT1H
X-Robots-Tag:noindex
X-PUBLISHED-TTL:PT1H
BEGIN:VTIMEZONE
TZID:Europe/London
BEGIN:DAYLIGHT
TZOFFSETFROM:+0000
TZOFFSETTO:+0100
TZNAME:BST
DTSTART:20250330T010000
END:DAYLIGHT
BEGIN:STANDARD
TZOFFSETFROM:+0100
TZOFFSETTO:+0000
TZNAME:GMT
DTSTART:20251026T010000
END:STANDARD
BEGIN:DAYLIGHT
TZOFFSETFROM:+0000
TZOFFSETTO:+0100
TZNAME:BST
DTSTART:20260329T010000
END:DAYLIGHT
BEGIN:STANDARD
TZOFFSETFROM:+0100
TZOFFSETTO:+0000
TZNAME:GMT
DTSTART:20261025T010000
END:STANDARD
BEGIN:DAYLIGHT
TZOFFSETFROM:+0000
TZOFFSETTO:+0100
TZNAME:BST
DTSTART:20270328T010000
END:DAYLIGHT
BEGIN:STANDARD
TZOFFSETFROM:+0100
TZOFFSETTO:+0000
TZNAME:GMT
DTSTART:20271031T010000
END:STANDARD
END:VTIMEZONE
BEGIN:VEVENT
DTSTART;TZID=Europe/London:20260520T191500
DTEND;TZID=Europe/London:20260520T213000
DTSTAMP:20260419T165449
CREATED:20260220T101933Z
LAST-MODIFIED:20260220T101933Z
UID:10000685-1779304500-1779312600@www.hampshirefedhortisoc.org.uk
SUMMARY:A lifetime with roses
DESCRIPTION:talk by Catherine & David May\, owners of Seale Rose garden. https://www.sealenurseries.co.uk/ \nJulie Sheppard
URL:https://www.hampshirefedhortisoc.org.uk/event/a-lifetime-with-roses/
LOCATION:Sandhurst Community hall\, Yorktown Rd\, Sandhurst\, GU47 9BJ.\, United Kingdom
CATEGORIES:Talk
ORGANIZER;CN="Julie Sheppard":MAILTO:juliepsheppard@sky.com
END:VEVENT
BEGIN:VEVENT
DTSTART;TZID=Europe/London:20260530T100000
DTEND;TZID=Europe/London:20260530T130000
DTSTAMP:20260419T165449
CREATED:20260220T102913Z
LAST-MODIFIED:20260220T102913Z
UID:10000689-1780135200-1780146000@www.hampshirefedhortisoc.org.uk
SUMMARY:Plant sale
DESCRIPTION:Sale of plants propagated by members \nJulie Sheppard
URL:https://www.hampshirefedhortisoc.org.uk/event/plant-sale-4/
LOCATION:tbc
CATEGORIES:Plant Sale
ORGANIZER;CN="Julie Sheppard":MAILTO:juliepsheppard@sky.com
END:VEVENT
BEGIN:VEVENT
DTSTART;TZID=Europe/London:20260620T150000
DTEND;TZID=Europe/London:20260620T170000
DTSTAMP:20260419T165449
CREATED:20260220T103202Z
LAST-MODIFIED:20260220T103202Z
UID:10000690-1781967600-1781974800@www.hampshirefedhortisoc.org.uk
SUMMARY:Summer show
DESCRIPTION:Summer show –  including flowers\, fruit\, veg\, culinary\, handicraft and photographic categories \nJulie Sheppard
URL:https://www.hampshirefedhortisoc.org.uk/event/summer-show-5/
LOCATION:Sandhurst Community hall\, Yorktown Rd\, Sandhurst\, GU47 9BJ.\, United Kingdom
CATEGORIES:Show
ORGANIZER;CN="Julie Sheppard":MAILTO:juliepsheppard@sky.com
END:VEVENT
BEGIN:VEVENT
DTSTART;TZID=Europe/London:20260715T191500
DTEND;TZID=Europe/London:20260715T213000
DTSTAMP:20260419T165449
CREATED:20260220T102141Z
LAST-MODIFIED:20260220T102141Z
UID:10000686-1784142900-1784151000@www.hampshirefedhortisoc.org.uk
SUMMARY:Greenhouses & polytunnels - year round use
DESCRIPTION:A talk by about the effective use of greenhouses and polytunnels \nJulie Sheppard
URL:https://www.hampshirefedhortisoc.org.uk/event/greenhouses-polytunnels-year-round-use/
LOCATION:Sandhurst Community hall\, Yorktown Rd\, Sandhurst\, GU47 9BJ.\, United Kingdom
CATEGORIES:Talk
ORGANIZER;CN="Julie Sheppard":MAILTO:juliepsheppard@sky.com
END:VEVENT
BEGIN:VEVENT
DTSTART;TZID=Europe/London:20260905T150000
DTEND;TZID=Europe/London:20260905T170000
DTSTAMP:20260419T165449
CREATED:20260220T103351Z
LAST-MODIFIED:20260220T103351Z
UID:10000691-1788620400-1788627600@www.hampshirefedhortisoc.org.uk
SUMMARY:Autumn show
DESCRIPTION:Autumn show – including exhibits of fruit\, veg\, flowers ( and flower arranging)\, culinary\, photographic and handicraft \nJulie Sheppard
URL:https://www.hampshirefedhortisoc.org.uk/event/autumn-show/
LOCATION:Sandhurst Community hall\, Yorktown Rd\, Sandhurst\, GU47 9BJ.\, United Kingdom
CATEGORIES:Show
ORGANIZER;CN="Julie Sheppard":MAILTO:juliepsheppard@sky.com
END:VEVENT
BEGIN:VEVENT
DTSTART;TZID=Europe/London:20261021T191500
DTEND;TZID=Europe/London:20261021T213000
DTSTAMP:20260419T165449
CREATED:20260220T102335Z
LAST-MODIFIED:20260220T102335Z
UID:10000687-1792610100-1792618200@www.hampshirefedhortisoc.org.uk
SUMMARY:A gardener's life
DESCRIPTION:A talk by Geoff Peach \nJulie Sheppard
URL:https://www.hampshirefedhortisoc.org.uk/event/a-gardeners-life/
LOCATION:Sandhurst Community hall\, Yorktown Rd\, Sandhurst\, GU47 9BJ.\, United Kingdom
CATEGORIES:Talk
ORGANIZER;CN="Julie Sheppard":MAILTO:juliepsheppard@sky.com
END:VEVENT
BEGIN:VEVENT
DTSTART;TZID=Europe/London:20261118T191500
DTEND;TZID=Europe/London:20261118T213000
DTSTAMP:20260419T165449
CREATED:20260220T102508Z
LAST-MODIFIED:20260220T102518Z
UID:10000688-1795029300-1795037400@www.hampshirefedhortisoc.org.uk
SUMMARY:Companion Planting
DESCRIPTION:A talk by Ray Broughton \nJulie Sheppard
URL:https://www.hampshirefedhortisoc.org.uk/event/companion-planting/
LOCATION:Sandhurst Community hall\, Yorktown Rd\, Sandhurst\, GU47 9BJ.\, United Kingdom
CATEGORIES:Talk
ORGANIZER;CN="Julie Sheppard":MAILTO:juliepsheppard@sky.com
END:VEVENT
END:VCALENDAR