BEGIN:VCALENDAR
VERSION:2.0
PRODID:-//The Hampshire Federation of Horticultural Societies - ECPv6.15.18//NONSGML v1.0//EN
CALSCALE:GREGORIAN
METHOD:PUBLISH
X-ORIGINAL-URL:https://www.hampshirefedhortisoc.org.uk
X-WR-CALDESC:Events for The Hampshire Federation of Horticultural Societies
REFRESH-INTERVAL;VALUE=DURATION:PT1H
X-Robots-Tag:noindex
X-PUBLISHED-TTL:PT1H
BEGIN:VTIMEZONE
TZID:Europe/London
BEGIN:DAYLIGHT
TZOFFSETFROM:+0000
TZOFFSETTO:+0100
TZNAME:BST
DTSTART:20250330T010000
END:DAYLIGHT
BEGIN:STANDARD
TZOFFSETFROM:+0100
TZOFFSETTO:+0000
TZNAME:GMT
DTSTART:20251026T010000
END:STANDARD
BEGIN:DAYLIGHT
TZOFFSETFROM:+0000
TZOFFSETTO:+0100
TZNAME:BST
DTSTART:20260329T010000
END:DAYLIGHT
BEGIN:STANDARD
TZOFFSETFROM:+0100
TZOFFSETTO:+0000
TZNAME:GMT
DTSTART:20261025T010000
END:STANDARD
BEGIN:DAYLIGHT
TZOFFSETFROM:+0000
TZOFFSETTO:+0100
TZNAME:BST
DTSTART:20270328T010000
END:DAYLIGHT
BEGIN:STANDARD
TZOFFSETFROM:+0100
TZOFFSETTO:+0000
TZNAME:GMT
DTSTART:20271031T010000
END:STANDARD
END:VTIMEZONE
BEGIN:VEVENT
DTSTART;TZID=Europe/London:20260502T100000
DTEND;TZID=Europe/London:20260502T120000
DTSTAMP:20260421T104415
CREATED:20260416T195033Z
LAST-MODIFIED:20260416T195033Z
UID:10000740-1777716000-1777723200@www.hampshirefedhortisoc.org.uk
SUMMARY:Alresford & District Horticultural Society Plant Sale & Coffee Morning
DESCRIPTION:Alresford & District Horticultural Society are holding a Plant Sale and Coffee Morning on Saturday 2nd May in the Community Centre\, West Street\, Alresford\, from 1oam until 12pm.\nBuy plants or bring some to swap.\nTea\, coffee and cake will be available to purchase. \nAlresford Community Centre
URL:https://www.hampshirefedhortisoc.org.uk/event/alresford-district-horticultural-society-plant-sale-coffee-morning/
LOCATION:Alresford Community Centre\, West Street\, Alresford\, SO24 9AG
CATEGORIES:Plant Sale
END:VEVENT
END:VCALENDAR