BEGIN:VCALENDAR
VERSION:2.0
PRODID:-//The Hampshire Federation of Horticultural Societies - ECPv6.15.18//NONSGML v1.0//EN
CALSCALE:GREGORIAN
METHOD:PUBLISH
X-ORIGINAL-URL:https://www.hampshirefedhortisoc.org.uk
X-WR-CALDESC:Events for The Hampshire Federation of Horticultural Societies
REFRESH-INTERVAL;VALUE=DURATION:PT1H
X-Robots-Tag:noindex
X-PUBLISHED-TTL:PT1H
BEGIN:VTIMEZONE
TZID:Europe/London
BEGIN:DAYLIGHT
TZOFFSETFROM:+0000
TZOFFSETTO:+0100
TZNAME:BST
DTSTART:20250330T010000
END:DAYLIGHT
BEGIN:STANDARD
TZOFFSETFROM:+0100
TZOFFSETTO:+0000
TZNAME:GMT
DTSTART:20251026T010000
END:STANDARD
BEGIN:DAYLIGHT
TZOFFSETFROM:+0000
TZOFFSETTO:+0100
TZNAME:BST
DTSTART:20260329T010000
END:DAYLIGHT
BEGIN:STANDARD
TZOFFSETFROM:+0100
TZOFFSETTO:+0000
TZNAME:GMT
DTSTART:20261025T010000
END:STANDARD
BEGIN:DAYLIGHT
TZOFFSETFROM:+0000
TZOFFSETTO:+0100
TZNAME:BST
DTSTART:20270328T010000
END:DAYLIGHT
BEGIN:STANDARD
TZOFFSETFROM:+0100
TZOFFSETTO:+0000
TZNAME:GMT
DTSTART:20271031T010000
END:STANDARD
END:VTIMEZONE
BEGIN:VEVENT
DTSTART;TZID=Europe/London:20260516T100000
DTEND;TZID=Europe/London:20260516T120000
DTSTAMP:20260421T155852
CREATED:20260306T134745Z
LAST-MODIFIED:20260306T134745Z
UID:10000709-1778925600-1778932800@www.hampshirefedhortisoc.org.uk
SUMMARY:Heath End Gardening Club Annual Plant Sale
DESCRIPTION:A variety of garden and vegetable plants for sale\, a tombola and Bric-a-Brac stall. There are also refreshments available. \nThe Link
URL:https://www.hampshirefedhortisoc.org.uk/event/heath-end-gardening-club-annual-plant-sale/
LOCATION:The Link\, Newchurch Road\, Tadley\, RG26 4HN
CATEGORIES:Plant Sale
ORGANIZER;CN="The Heath End Gardening Club":MAILTO:patriciabesom@gmail.com
END:VEVENT
END:VCALENDAR